BEGIN:VCALENDAR
VERSION:2.0
PRODID:-//https://seniorenacademie.hcc.nl///NONSGML kigkonsult.se iCalcreator 2.10.15//
METHOD:PUBLISH
BEGIN:VEVENT
UID:20260424T014052CEST-59751RTivZ@https://seniorenacademie.hcc.nl/
DTSTAMP:20260423T234052Z
DESCRIPTION:Inloop Digitale Hulp \nDigitale hulp bij computer\, tablet en s
 martphone problemen https://seniorenacademie.hcc.nl/component/rseventspro/
 evenement/3043-inloop-digitale-hulp?Itemid=101
DTSTART:20260512T123000Z
DTEND:20260512T150000Z
LOCATION:Activiteitencentrum Orka (Broekakkerseweg 1\, 5641 PC Eindhoven)
SUMMARY:Inloop Digitale hulp
URL:https://seniorenacademie.hcc.nl/component/rseventspro/evenement/3043-in
 loop-digitale-hulp?Itemid=101
END:VEVENT
BEGIN:VEVENT
UID:20260424T014052CEST-5978tzut4u@https://seniorenacademie.hcc.nl/
DTSTAMP:20260423T234052Z
DESCRIPTION:Inloop Digitale Hulp \nDigitale hulp bij computer\, tablet en s
 martphone problemen https://seniorenacademie.hcc.nl/component/rseventspro/
 evenement/3050-inloop-digitale-hulp?Itemid=101
DTSTART:20260516T120000Z
DTEND:20260516T150000Z
LOCATION:Wijkgebouw 't Slot (Kastelenplein 167\, 5653 LX Eindhoven)
SUMMARY:Inloop Digitale hulp
URL:https://seniorenacademie.hcc.nl/component/rseventspro/evenement/3050-in
 loop-digitale-hulp?Itemid=101
END:VEVENT
BEGIN:VEVENT
UID:20260424T014052CEST-5979xHoZhz@https://seniorenacademie.hcc.nl/
DTSTAMP:20260423T234052Z
DESCRIPTION:Inloop Digitale Hulp \nDigitale hulp bij computer\, tablet en s
 martphone problemen https://seniorenacademie.hcc.nl/component/rseventspro/
 evenement/3074-inloop-digitale-hulp?Itemid=101
DTSTART:20260515T110000Z
DTEND:20260515T130000Z
LOCATION:FNV Regionaal Vakbondshuis (Pegasusweg 200\, 3067 KX Rotterdam)
SUMMARY:Inloop Digitale hulp
URL:https://seniorenacademie.hcc.nl/component/rseventspro/evenement/3074-in
 loop-digitale-hulp?Itemid=101
END:VEVENT
BEGIN:VEVENT
UID:20260424T014052CEST-5980pRVi85@https://seniorenacademie.hcc.nl/
DTSTAMP:20260423T234052Z
DESCRIPTION:Inloop Digitale Hulp\nDigitale hulp bij computer\, tablet en sm
 artphone problemen https://seniorenacademie.hcc.nl/component/rseventspro/e
 venement/3085-inloop-digitale-hulp?Itemid=101
DTSTART:20260513T183000Z
DTEND:20260513T203000Z
LOCATION:Wijkcentrum 't Centrum (M.A. de Ruijterstraat 3\, 3201 CK Spijkeni
 sse)
SUMMARY:Inloop Digitale hulp
URL:https://seniorenacademie.hcc.nl/component/rseventspro/evenement/3085-in
 loop-digitale-hulp?Itemid=101
END:VEVENT
BEGIN:VEVENT
UID:20260424T014052CEST-5980eSVvMi@https://seniorenacademie.hcc.nl/
DTSTAMP:20260423T234052Z
DESCRIPTION:Ai voor Jou & Mij – Een Praktische Gids\nIntroductie en Basisbe
 grippen\nWelkom bij deze introductie in de fascinerende wereld van Artific
 iële Intelligentie (Ai)!Misschien klinkt Ai ingewikkeld of als iets uit sc
 iencefictionfilms\, maar niets is minder waar. Ai is al een integraal onde
 rdeel van ons dagelijks leven en biedt talloze mogelijkheden om taken te v
 ereenvoudigen\, tijd te besparen en zelfs onze creativiteit te stimuleren.
 \nDe syllabus dient als een naslagwerk bij de presentatie 'Ai voor Jou & M
 ij: Slimmer\, Sneller\,Simpeler!' en biedt een diepere duik in de onderwer
 pen die we bespreken\, inclusief praktische voorbeelden en tips om zelf aa
 n de slag te gaan. https://seniorenacademie.hcc.nl/component/rseventspro/e
 venement/3174-ai-voor-jou-mij---een-praktische-gids?Itemid=101
DTSTART:20260513T111500Z
DTEND:20260513T140000Z
LOCATION:Buurthuis Het Voorhof (Herman Gorterhof 165\, 2624 XL Delft)
SUMMARY:Ai voor Jou & Mij – Een Praktische Gids
URL:https://seniorenacademie.hcc.nl/component/rseventspro/evenement/3174-ai
 -voor-jou-mij---een-praktische-gids?Itemid=101
END:VEVENT
BEGIN:VEVENT
UID:20260424T014052CEST-5982mNGKdZ@https://seniorenacademie.hcc.nl/
DTSTAMP:20260423T234052Z
DESCRIPTION:AI voor Jou & Mij – Een Praktische Gids\nIntroductie en Basisbe
 grippen\nWelkom bij deze introductie in de fascinerende wereld van Artific
 iële Intelligentie (Ai)!Misschien klinkt Ai ingewikkeld of als iets uit sc
 iencefictionfilms\, maar niets is minder waar. Ai is al een integraal onde
 rdeel van ons dagelijks leven en biedt talloze mogelijkheden om taken te v
 ereenvoudigen\, tijd te besparen en zelfs onze creativiteit te stimuleren.
 \nDe syllabus dient als een naslagwerk bij de presentatie 'Ai voor Jou & M
 ij: Slimmer\, Sneller\,Simpeler!' en biedt een diepere duik in de onderwer
 pen die we bespreken\, inclusief praktische voorbeelden en tips om zelf aa
 n de slag te gaan. https://seniorenacademie.hcc.nl/component/rseventspro/e
 venement/3178-ai-voor-jou-mij---een-praktische-gids?Itemid=101
DTSTART:20260512T080000Z
DTEND:20260512T100000Z
LOCATION:Activiteitencentrum Orka (Broekakkerseweg 1\, 5641 PC Eindhoven)
SUMMARY:Ai voor Jou & Mij – Een Praktische Gids
URL:https://seniorenacademie.hcc.nl/component/rseventspro/evenement/3178-ai
 -voor-jou-mij---een-praktische-gids?Itemid=101
END:VEVENT
BEGIN:VEVENT
UID:20260424T014052CEST-5983xV8JSC@https://seniorenacademie.hcc.nl/
DTSTAMP:20260423T234052Z
DESCRIPTION:Ai voor Jou & Mij – Een Praktische Gids\nIntroductie en Basisbe
 grippen\nWelkom bij deze introductie in de fascinerende wereld van Artific
 iële Intelligentie (Ai)!Misschien klinkt Ai ingewikkeld of als iets uit sc
 iencefictionfilms\, maar niets is minder waar. Ai is al een integraal onde
 rdeel van ons dagelijks leven en biedt talloze mogelijkheden om taken te v
 ereenvoudigen\, tijd te besparen en zelfs onze creativiteit te stimuleren.
 \nDe syllabus dient als een naslagwerk bij de presentatie 'Ai voor Jou & M
 ij: Slimmer\, Sneller\,Simpeler!' en biedt een diepere duik in de onderwer
 pen die we bespreken\, inclusief praktische voorbeelden en tips om zelf aa
 n de slag te gaan. https://seniorenacademie.hcc.nl/component/rseventspro/e
 venement/3182-ai-voor-jou-mij---een-praktische-gids?Itemid=101
DTSTART:20260515T113000Z
DTEND:20260515T140000Z
LOCATION:Gemeenschapshuis 't Trefpunt (Pancratiusstraat 23\, 6151 CD Munste
 rgeleen)
SUMMARY:Ai voor Jou & Mij – Een Praktische Gids
URL:https://seniorenacademie.hcc.nl/component/rseventspro/evenement/3182-ai
 -voor-jou-mij---een-praktische-gids?Itemid=101
END:VEVENT
BEGIN:VEVENT
UID:20260424T014052CEST-5985r4hl5r@https://seniorenacademie.hcc.nl/
DTSTAMP:20260423T234052Z
DESCRIPTION:Ai voor Jou & Mij – Een Praktische Gids\nIntroductie en Basisbe
 grippen\nWelkom bij deze introductie in de fascinerende wereld van Artific
 iële Intelligentie (Ai)!Misschien klinkt Ai ingewikkeld of als iets uit sc
 iencefictionfilms\, maar niets is minder waar. Ai is al een integraal onde
 rdeel van ons dagelijks leven en biedt talloze mogelijkheden om taken te v
 ereenvoudigen\, tijd te besparen en zelfs onze creativiteit te stimuleren.
 \nDe syllabus dient als een naslagwerk bij de presentatie 'Ai voor Jou & M
 ij: Slimmer\, Sneller\,Simpeler!' en biedt een diepere duik in de onderwer
 pen die we bespreken\, inclusief praktische voorbeelden en tips om zelf aa
 n de slag te gaan. https://seniorenacademie.hcc.nl/component/rseventspro/e
 venement/3186-ai-voor-jou-mij---een-praktische-gids?Itemid=101
DTSTART:20260512T113000Z
DTEND:20260512T140000Z
LOCATION:Wijkgebouw Bijdorp (Bijdorplaan 471\, 2713 SZ Zoetermeer)
SUMMARY:Ai voor Jou & Mij – Een Praktische Gids
URL:https://seniorenacademie.hcc.nl/component/rseventspro/evenement/3186-ai
 -voor-jou-mij---een-praktische-gids?Itemid=101
END:VEVENT
BEGIN:VEVENT
UID:20260424T014052CEST-59863kUdDu@https://seniorenacademie.hcc.nl/
DTSTAMP:20260423T234052Z
DESCRIPTION:De presentator neemt je mee in de mogelijkheden en valkuilen va
 n Artificiële Intelligentie (Ai). Ai klinkt misschien ingewikkeld en futur
 istisch\, maar is dat niet.\nHet maakt al deel uit van ons dagelijks leven
  en biedt talloze mogelijkheden om taken te vereenvoudigen en om tijd te b
 esparen\, bijvoorbeeld door het laten het opstellen van teksten\, het bean
 twoorden van vragen etc. Ook kan het onze creativiteit stimuleren en helpe
 n deze toe te passen. Voor ieder wat wils dus!\nInloop: 13:15 uur\nStart p
 resentatie: 13:30 uur\nUw presentator is Aad Kramer https://seniorenacadem
 ie.hcc.nl/component/rseventspro/evenement/3187-ai-voor-jou-mij-een-praktis
 che-gids?Itemid=101
DTSTART:20260513T113000Z
DTEND:20260513T140000Z
LOCATION:Buurthuis Het Voorhof (Herman Gorterhof 165\, 2624 XL Delft)
SUMMARY:Ai voor Jou & Mij - Een Praktische Gids 
URL:https://seniorenacademie.hcc.nl/component/rseventspro/evenement/3187-ai
 -voor-jou-mij-een-praktische-gids?Itemid=101
END:VEVENT
BEGIN:VEVENT
UID:20260424T014052CEST-59889johsb@https://seniorenacademie.hcc.nl/
DTSTAMP:20260423T234052Z
DESCRIPTION:\n \n\n \n \nWorkshop: Stap over op Linux Mint\nHierbij nodigen
  wij je van harte uit om je in te schrijven voor de workshop Linux van de 
 HCC!seniorenacademie afdeling Nijmegen op dinsdag 12 mei 2026. • tijd: 14:
 00 -16:00 uur• locatie: wijkcentrum Hatert\, Couwenbergstraat 22\, Nijmege
 n• presentatie: Jacques Kobussen• inschrijven: Jacques Kobussen\; jh.kobus
 sen@hccnet.nl\n• let op: maximaal 15 deelnemersLinux Mint is hét gebruiksv
 riendelijke alternatief voor Windows. Het is snel\, veilig en draait uitst
 ekend op oudere laptops. Tijdens deze workshop installeren we samen een sc
 hone versie van Linux Mint.\nVoor meer informatie kijk op: https://noordoo
 st-brabant-en-nijmegen.hcc.nl/sr-nijmegen https://seniorenacademie.hcc.nl/
 component/rseventspro/evenement/3188-workshop-stap-over-op-linux-mint?Item
 id=101
DTSTART:20260512T120000Z
DTEND:20260512T140000Z
LOCATION:Wijkcentrum Hatert (Couwenbergstraat 22\, 6535 RZ Nijmegen)
SUMMARY:Workshop: Stap over op Linux Mint
URL:https://seniorenacademie.hcc.nl/component/rseventspro/evenement/3188-wo
 rkshop-stap-over-op-linux-mint?Itemid=101
END:VEVENT
END:VCALENDAR
