BEGIN:VCALENDAR
VERSION:2.0
PRODID:-//https://seniorenacademie.hcc.nl///NONSGML kigkonsult.se iCalcreator 2.10.15//
METHOD:PUBLISH
BEGIN:VEVENT
UID:20260421T051522CEST-7039lvzZcx@https://seniorenacademie.hcc.nl/
DTSTAMP:20260421T031522Z
DESCRIPTION:Inloop Digitale Hulp \nDigitale hulp bij computer\, tablet en s
 martphone problemen https://seniorenacademie.hcc.nl/component/rseventspro/
 evenement/3033-inloop-digitale-hulp?Itemid=101
DTSTART:20260527T123000Z
DTEND:20260527T150000Z
LOCATION:De Kuip (Bloemendalsweg 1 B\, 7429 AL Colmschate)
SUMMARY:Inloop Digitale hulp
URL:https://seniorenacademie.hcc.nl/component/rseventspro/evenement/3033-in
 loop-digitale-hulp?Itemid=101
END:VEVENT
BEGIN:VEVENT
UID:20260421T051522CEST-7040VDg7CT@https://seniorenacademie.hcc.nl/
DTSTAMP:20260421T031522Z
DESCRIPTION:Inloop Digitale Hulp \nDigitale hulp bij computer\, tablet en s
 martphone problemen https://seniorenacademie.hcc.nl/component/rseventspro/
 evenement/3034-inloop-digitale-hulp?Itemid=101
DTSTART:20260624T123000Z
DTEND:20260624T150000Z
LOCATION:De Kuip (Bloemendalsweg 1 B\, 7429 AL Colmschate)
SUMMARY:Inloop Digitale hulp
URL:https://seniorenacademie.hcc.nl/component/rseventspro/evenement/3034-in
 loop-digitale-hulp?Itemid=101
END:VEVENT
BEGIN:VEVENT
UID:20260421T051522CEST-7040r3fBfv@https://seniorenacademie.hcc.nl/
DTSTAMP:20260421T031522Z
DESCRIPTION:Inloop Digitale Hulp \nDigitale hulp bij computer\, tablet en s
 martphone problemen https://seniorenacademie.hcc.nl/component/rseventspro/
 evenement/3045-inloop-digitale-hulp?Itemid=101
DTSTART:20260609T123000Z
DTEND:20260609T150000Z
LOCATION:Activiteitencentrum Orka (Broekakkerseweg 1\, 5641 PC Eindhoven)
SUMMARY:Inloop Digitale hulp
URL:https://seniorenacademie.hcc.nl/component/rseventspro/evenement/3045-in
 loop-digitale-hulp?Itemid=101
END:VEVENT
BEGIN:VEVENT
UID:20260421T051522CEST-7041crejdZ@https://seniorenacademie.hcc.nl/
DTSTAMP:20260421T031522Z
DESCRIPTION:Inloop Digitale Hulp \nDigitale hulp bij computer\, tablet en s
 martphone problemen https://seniorenacademie.hcc.nl/component/rseventspro/
 evenement/3051-inloop-digitale-hulp?Itemid=101
DTSTART:20260620T120000Z
DTEND:20260620T150000Z
LOCATION:Wijkgebouw 't Slot (Kastelenplein 167\, 5653 LX Eindhoven)
SUMMARY:Inloop Digitale hulp
URL:https://seniorenacademie.hcc.nl/component/rseventspro/evenement/3051-in
 loop-digitale-hulp?Itemid=101
END:VEVENT
BEGIN:VEVENT
UID:20260421T051522CEST-7042uDaAMh@https://seniorenacademie.hcc.nl/
DTSTAMP:20260421T031522Z
DESCRIPTION:Inloop Digitale Hulp \nDigitale hulp bij computer\, tablet en s
 martphone problemen https://seniorenacademie.hcc.nl/component/rseventspro/
 evenement/3057-inloop-digitale-hulp?Itemid=101
DTSTART:20260617T130000Z
DTEND:20260617T153000Z
LOCATION:De Geseldonk (Cederhoutstraat 44\, 5706 XC Helmond)
SUMMARY:Inloop Digitale hulp
URL:https://seniorenacademie.hcc.nl/component/rseventspro/evenement/3057-in
 loop-digitale-hulp?Itemid=101
END:VEVENT
BEGIN:VEVENT
UID:20260421T051522CEST-7043lBRL6w@https://seniorenacademie.hcc.nl/
DTSTAMP:20260421T031522Z
DESCRIPTION:Inloop Digitale Hulp \nDigitale hulp bij computer\, tablet en s
 martphone problemen https://seniorenacademie.hcc.nl/component/rseventspro/
 evenement/3063-inloop-digitale-hulp?Itemid=101
DTSTART:20260604T113000Z
DTEND:20260604T140000Z
LOCATION:SCC De Schans (Troelstradreef 160\, 5237 DE 's-Hertogenbosch)
SUMMARY:Inloop Digitale hulp
URL:https://seniorenacademie.hcc.nl/component/rseventspro/evenement/3063-in
 loop-digitale-hulp?Itemid=101
END:VEVENT
BEGIN:VEVENT
UID:20260421T051522CEST-7044HWn9vW@https://seniorenacademie.hcc.nl/
DTSTAMP:20260421T031522Z
DESCRIPTION:Inloop Digitale Hulp \nDigitale hulp bij computer\, tablet en s
 martphone problemen https://seniorenacademie.hcc.nl/component/rseventspro/
 evenement/3071-inloop-digitale-hulp?Itemid=101
DTSTART:20260601T130000Z
DTEND:20260601T143000Z
LOCATION:Bibliotheek Z-O-U-T (Hoflaan 31\, 3956 ED Leersum)
SUMMARY:Inloop Digitale hulp
URL:https://seniorenacademie.hcc.nl/component/rseventspro/evenement/3071-in
 loop-digitale-hulp?Itemid=101
END:VEVENT
BEGIN:VEVENT
UID:20260421T051522CEST-7044s7mFpf@https://seniorenacademie.hcc.nl/
DTSTAMP:20260421T031522Z
DESCRIPTION:Inloop Digitale Hulp \nDigitale hulp bij computer\, tablet en s
 martphone problemen https://seniorenacademie.hcc.nl/component/rseventspro/
 evenement/3072-inloop-digitale-hulp?Itemid=101
DTSTART:20260615T130000Z
DTEND:20260615T143000Z
LOCATION:Bibliotheek Z-O-U-T (Hoflaan 31\, 3956 ED Leersum)
SUMMARY:Inloop Digitale hulp
URL:https://seniorenacademie.hcc.nl/component/rseventspro/evenement/3072-in
 loop-digitale-hulp?Itemid=101
END:VEVENT
BEGIN:VEVENT
UID:20260421T051522CEST-7045VbueEL@https://seniorenacademie.hcc.nl/
DTSTAMP:20260421T031522Z
DESCRIPTION:Inloop Digitale Hulp \nDigitale hulp bij computer\, tablet en s
 martphone problemen https://seniorenacademie.hcc.nl/component/rseventspro/
 evenement/3075-inloop-digitale-hulp?Itemid=101
DTSTART:20260619T110000Z
DTEND:20260619T130000Z
LOCATION:FNV Regionaal Vakbondshuis (Pegasusweg 200\, 3067 KX Rotterdam)
SUMMARY:Inloop Digitale hulp
URL:https://seniorenacademie.hcc.nl/component/rseventspro/evenement/3075-in
 loop-digitale-hulp?Itemid=101
END:VEVENT
BEGIN:VEVENT
UID:20260421T051522CEST-7046MV2Ww0@https://seniorenacademie.hcc.nl/
DTSTAMP:20260421T031522Z
DESCRIPTION:De Androidpresentatie \ngaat over het gebruik van Android op me
 t name de smartphone. Tevens zal de nieuwe Android-versie (nr. 16) aan de 
 orde komen.Operatingsystems hebben onderhoud nodig. Door diverse vernieuwi
 ngen\, de koppeling met andere systemen en kwaadwillenden zijn regelmatig 
 aanpassingen nodig. Deze aanpassingen komen meestal tussendoor\, soms uit 
 een update-schema. Er is verschil tussen kleinere aanpassingen (update) en
  grotere aanpassingen (upgrade) waarbij soms een heel nieuw deel OS wordt 
 geleverd.Android updates en upgrades worden gemaakt door Google. Zodra de 
 upgrade voldoende is getest wordt deze vrijgegeven voor distributie. De ee
 rste vrijgave is meestal voor Google eigen merk: Pixel. Andere fabrikanten
  moeten de aanpassingen eerst geschikt maken voor hun hardware en software
 versie. https://seniorenacademie.hcc.nl/component/rseventspro/evenement/31
 58-android-16-en-ontwikkelingen?Itemid=101
DTSTART:20260603T120000Z
DTEND:20260603T140000Z
LOCATION:SCC De Schans (Troelstradreef 160\, 5237 DE 's-Hertogenbosch)
SUMMARY:Android 16 en ontwikkelingen
URL:https://seniorenacademie.hcc.nl/component/rseventspro/evenement/3158-an
 droid-16-en-ontwikkelingen?Itemid=101
END:VEVENT
END:VCALENDAR
